BEGIN:VCALENDAR
VERSION:2.0
PRODID:-//Refrigeration Training Center - ECPv6.15.13//NONSGML v1.0//EN
CALSCALE:GREGORIAN
METHOD:PUBLISH
X-ORIGINAL-URL:https://refrigerationtrainingcenter.com.pe
X-WR-CALDESC:Eventos para Refrigeration Training Center
REFRESH-INTERVAL;VALUE=DURATION:PT1H
X-Robots-Tag:noindex
X-PUBLISHED-TTL:PT1H
BEGIN:VTIMEZONE
TZID:UTC
BEGIN:STANDARD
TZOFFSETFROM:+0000
TZOFFSETTO:+0000
TZNAME:UTC
DTSTART:20180101T000000
END:STANDARD
END:VTIMEZONE
BEGIN:VEVENT
DTSTART;VALUE=DATE:20220622
DTEND;VALUE=DATE:20220623
DTSTAMP:20260423T163532
CREATED:20220622T024957Z
LAST-MODIFIED:20220622T082801Z
UID:3777-1655856000-1655942399@refrigerationtrainingcenter.com.pe
SUMMARY:Curso de refrigeración residencial y comercial HVAC (online híbrido)
DESCRIPTION:LLEGÓ EL VERANO! Aprovecha\, entrenate y certificate en una de las carreras con más demanda en todo el país. Con más de 30 años de trayectoria ofrecemos el curso de refrigeración residencial y comercial HVAC online hybrido\, 100% en español y desde la comodidad de tu casa. Al terminar el curso contaras con las certificaciones y licencias apropiadas que te proporcionarán las herramientas necesarias para tu éxito profesional.
URL:https://refrigerationtrainingcenter.com.pe/evento/curso-de-refrigeracion-residencial-y-comercial-hvac-online-hibrido/
CATEGORIES:Refrigeración HVAC
ATTACH;FMTTYPE=image/jpeg:https://refrigerationtrainingcenter.com.pe/wp-content/uploads/2018/07/Cursos-de-refrigeracion-HVAC-22-de-junio.jpg
END:VEVENT
BEGIN:VEVENT
DTSTART;TZID=UTC:20190626T080000
DTEND;TZID=UTC:20190626T170000
DTSTAMP:20260423T163532
CREATED:20180718T091348Z
LAST-MODIFIED:20220622T050430Z
UID:2452-1561536000-1561568400@refrigerationtrainingcenter.com.pe
SUMMARY:Art & Design
DESCRIPTION:Lorem gravida nibh vel veliauctor aliquenean sollicitudin\, lorem quis bibendum auctor\, nisi elit consequat ipsutis sem nibh id elit. Duis sed odio sit amet nibh vulputate cursus a sit amet mauris. Morbi accumsan ipsum velit. Nam nec tellus a odio tincidunt auctor a ornare odio. Sed non mauris vitae erat consequat auctor eu in elit. Class aptent taciti sociosqu ad litora torquent per conubia nostra\, per inceptos himenaeos. Mauris in erat justo. Nullam ac urnamiumimus felis dapibus sit amet. Sed non neque elit. Lorem gravida nibh vel veliauctor aliquenean sollicitudin\, lorem quis auctor.
URL:https://refrigerationtrainingcenter.com.pe/evento/art-design/
LOCATION:Harvard Education\, Cambridge\, MA 02138\, USA\, Boston
CATEGORIES:Refrigeración HVAC
ATTACH;FMTTYPE=image/jpeg:https://refrigerationtrainingcenter.com.pe/wp-content/uploads/2018/07/Cursos-de-refrigeracion-HVAC-22-de-junio.jpg
ORGANIZER;CN="Harvard Education":MAILTO:academist@elated-themes.com
END:VEVENT
END:VCALENDAR